BEGIN:VCALENDAR
VERSION:2.0
PRODID:-//ChamberMaster//Event Calendar 2.0//EN
METHOD:PUBLISH
X-PUBLISHED-TTL:P3D
REFRESH-INTERVAL:P3D
CALSCALE:GREGORIAN
BEGIN:VEVENT
DTSTART:20131107T173000Z
DTEND:20131107T190000Z
X-MICROSOFT-CDO-ALLDAYEVENT:FALSE
SUMMARY:2013 This Isn't Politics. It's Business.
DESCRIPTION:Luncheon and Presentation by Kevin McKechnie\n\n\n\nWhat's going on - or not going on - in Washington\, D.C. affects your bottom line.\n\n\n\nIf it's happening in the nation's capital\, Kevin McKechnie knows about it. After 25 years in government relations and association management\, he's a leading expert in insurance regulation and healthcare policy. Join us as he sorts out the big issues impacting the business community:\n\n   Affordable Care Act\n\n   Economy\n\n   Congress\n\n   Last two years of the Obama administration
X-ALT-DESC;FMTTYPE=text/html:Luncheon and Presentation by Kevin&nbsp\;McKechnie<br />\n<br />\n<strong>What&#39\;s going on - or not going on - in Washington\, D.C. affects your bottom line.</strong><br />\n<br />\n<span style="color:#343434\;"><span style="font-family:arial\,sans-serif\;"><span style="font-size:9.0pt\;">If it&#39\;s happening in the nation&#39\;s capital\, Kevin McKechnie knows about it. After 25 years in government relations and association management\, he&#39\;s a leading expert in insurance regulation and healthcare policy. Join us as he sorts out the big issues impacting the business community:<br />\n&bull\; &nbsp\;Affordable Care Act<br />\n&bull\; &nbsp\;Economy<br />\n&bull\; &nbsp\;Congress<br />\n&bull\; &nbsp\;Last two years of the Obama administration&nbsp\;</span></span></span><br />\n<br />\n&nbsp\;
LOCATION:Spirit Bank Event Center | 10441 S. Regal Blvd.\, Tulsa\, OK
UID:e.1611.1245
SEQUENCE:3
DTSTAMP:20260421T050702Z
URL:https://portal.bixbychamber.com/events/details/2013-this-isn-t-politics-it-s-business-11-07-2013-1245
END:VEVENT

END:VCALENDAR
