BEGIN:VCALENDAR
VERSION:2.0
PRODID:-//ChamberMaster//Event Calendar 2.0//EN
METHOD:PUBLISH
X-PUBLISHED-TTL:P3D
REFRESH-INTERVAL:P3D
CALSCALE:GREGORIAN
BEGIN:VEVENT
DTSTART:20130613T223000Z
DTEND:20130614T013000Z
X-MICROSOFT-CDO-ALLDAYEVENT:FALSE
SUMMARY:2013 Taste of Bixby
DESCRIPTION:The Taste of Bixby is the networking event of the year with live music\, great food and drinks. It's an opportunity for networkers to meet with prospective clients in a casual fun atmosphere. Whether you're in the mood for a gourmet dessert\, slice of pizza or a glass of wine\, all your cravings will be satisfied at the 2013 Taste of Bixby. The event is open to the public.
X-ALT-DESC;FMTTYPE=text/html:The Taste of Bixby is the networking event of the year with live music\, great food and drinks. It&#39\;s an opportunity for networkers to meet with prospective clients in a casual fun atmosphere. Whether you&#39\;re in the mood for a gourmet dessert\, slice of pizza or a glass of wine\, all your cravings will be satisfied at the 2013 Taste of Bixby. The event is open to the public.<br />\n
LOCATION:
UID:e.1611.272
SEQUENCE:3
DTSTAMP:20260421T114052Z
URL:https://portal.bixbychamber.com/events/details/2013-taste-of-bixby-06-13-2013-272
END:VEVENT

END:VCALENDAR
