BEGIN:VCALENDAR
VERSION:2.0
PRODID:-//ChamberMaster//Event Calendar 2.0//EN
METHOD:PUBLISH
X-PUBLISHED-TTL:P3D
REFRESH-INTERVAL:P3D
CALSCALE:GREGORIAN
BEGIN:VEVENT
DTSTART:20130114T233000Z
DTEND:20130115T020000Z
X-MICROSOFT-CDO-ALLDAYEVENT:FALSE
SUMMARY:2013 Take Heart Tulsa?s Mixer Monday
DESCRIPTION:Hate singles events? So do we! Join the adventure instead!  Join us during this free happy hour for fun activities\, drinks hors d'oeuvres at our first monthly mixer of the year at the Savage Art Gallery on January 14\, 2013 at 5:30pm. Mix and mingle with other single young professionals during this great opportunity to check out a new art gallery\, meet new people and learn about Take Heart Tulsa.  This event is free\, but you must register to attend. Please register at http://mixermonday.eventbrite.com/ For more info on Take Heart Tulsa visit http://takehearttulsa.com/
X-ALT-DESC;FMTTYPE=text/html:Hate singles events? So do we! Join the adventure instead!&nbsp\; Join us during this free happy hour for fun activities\, drinks hors d&#39\;oeuvres at our first monthly mixer of the year at the Savage Art Gallery on January 14\, 2013 at 5:30pm. Mix and mingle with other single young professionals during this great opportunity to check out a new art gallery\, meet new people and learn about Take Heart Tulsa.&nbsp\; This event is free\, but you must register to attend. Please register at http://mixermonday.eventbrite.com/ For more info on Take Heart Tulsa visit http://takehearttulsa.com/
LOCATION:Savage Art Gallery2205 E. 6th StreetTulsa\, OK 74104
UID:e.1611.336
SEQUENCE:3
DTSTAMP:20260421T180938Z
URL:https://portal.bixbychamber.com/events/details/2013-take-heart-tulsa-s-mixer-monday-01-14-2013-336
END:VEVENT

END:VCALENDAR
