BEGIN:VCALENDAR
VERSION:2.0
PRODID:-//ChamberMaster//Event Calendar 2.0//EN
METHOD:PUBLISH
X-PUBLISHED-TTL:P3D
REFRESH-INTERVAL:P3D
CALSCALE:GREGORIAN
BEGIN:VEVENT
DTSTART:20130823T163000Z
DTEND:20130823T180000Z
X-MICROSOFT-CDO-ALLDAYEVENT:FALSE
SUMMARY:2013 State of the State with Governor Fallin
DESCRIPTION:The Bixby Metro Chamber strives to facilitate communication between elected officials and our Chamber business partners. We will hold our first-ever State of the State luncheon allowing small and large business partners the opportunity to address our Governor and learn about issues affecting our state. \n\n \nTopics will include economic development\, job creation\, transportation\, healthcare\, taxes\, tourism and other issues of concern to our community. Keeping our Partners informed on state government issues is a significant Chamber priority.\n\n\n\n \n\n	\n		\n			\n			\n			Sponsorship Opportunities Available:\n\n			Premier Sponsor - $2500\n\n			* Table of 8\n\n			* Company Representative seating on stage\n\n			*  Prominent Recognition on all PR & Marketing\n\n			* Recognition During the Luncheon  \n\n			* Corporate Logo Displayed at Table\n\n			\n\n			Table of 8 Sponsor - $1500\n\n			* Table of 8\n\n			*  Prominent Recognition on all PR & Marketing\n\n			* Recognition During the Luncheon  \n\n			* Corporate Logo Displayed at Table\n			 \n\n			Host Sponsor- $250 \n\n			*  Recognition on All PR & Marketing \n\n			* Corporate Logo Displayed at Table \n\n			* Lunch for One\n			 \n\n			For more information or to sign up for a sponsorship email events@bixbychamber.com \n\n			or call (918) 366-9445.
X-ALT-DESC;FMTTYPE=text/html:<p style="margin:0in\;margin-bottom:.0001pt"><span style="font-family:arial\;"><span style="font-size: 10pt\;">The Bixby Metro Chamber strives to facilitate communication between elected officials and our Chamber business partners. We will hold our first-ever State of the State luncheon allowing small and large business partners the opportunity to address our Governor and learn about issues affecting our state. </span></span></p>\n\n<p style="margin:0in\;margin-bottom:.0001pt"><span style="font-family:arial\;"><span style="font-size: 10pt\;">&nbsp\;</span></span></p>\n<span style="font-family:arial\;"><span style="font-size: 10pt\;">Topics will include economic development\, job creation\, transportation\, healthcare\, taxes\, tourism and other issues of concern to our community. Keeping our Partners informed on state government issues is a significant Chamber priority.</span></span><br />\n<br />\n&nbsp\;\n<table border="0" cellpadding="0" cellspacing="0" id="textEdit" width="100%">\n	<tbody>\n		<tr style="font-size: 24pt\; font-family: Georgia\, 'Times New Roman'\, Times\, serif\; color: #004aa6\;" styleclass=" style_FeatureHeadingText">\n			<td align="center" colspan="2" style="text-align: center\; color: #004aa6\;">\n			<div align="left" style="text-align: left\;">\n			<div align="center" style="text-align: center\; font-size: 14pt\; font-family: Georgia\, 'Times New Roman'\, Times\, serif\; color: #0070b6\;"><span style="font-family: Arial\, Helvetica\, sans-serif\; font-size: 9pt\; color: #000000\;"><strong>Sponsorship Opportunities Available:</strong></span></div>\n\n			<div align="center" style="text-align: center\; font-family: Georgia\, 'Times New Roman'\, Times\, serif\; font-size: 10pt\; color: #000000\;"><span style="font-family: Arial\, Helvetica\, sans-serif\; font-size: 9pt\; color: #000000\;"><strong>Premier Sponsor - $2500</strong></span></div>\n\n			<div align="center" style="text-align: center\; font-family: Georgia\, 'Times New Roman'\, Times\, serif\; font-size: 9pt\;"><span style="font-family: Arial\, Helvetica\, sans-serif\; font-size: 9pt\; color: #000000\;">* Table of 8</span></div>\n\n			<div align="center" style="text-align: center\; font-size: 10pt\;"><span style="font-family: Arial\, Helvetica\, sans-serif\; font-size: 9pt\; color: #000000\;"><span style="font-family: Georgia\, 'Times New Roman'\, Times\, serif\;"><span style="font-size: 9pt\;">* Company Representative seating on stage</span><br />\n			<span style="font-size: 9pt\;">* &nbsp\;Prominent Recognition on all PR &amp\; Marketing</span></span></span></div>\n\n			<div align="center" style="text-align: center\; font-size: 10pt\;"><span style="font-family: Arial\, Helvetica\, sans-serif\; font-size: 9pt\; color: #000000\;"><span style="font-family: Georgia\, 'Times New Roman'\, Times\, serif\;"><span style="font-size: 12px\;">* Recognition During the Luncheon&nbsp\;</span>&nbsp\;</span></span></div>\n\n			<div align="center" style="text-align: center\; font-size: 10pt\;"><span style="font-family: Arial\, Helvetica\, sans-serif\; font-size: 9pt\; color: #000000\;"><span style="font-family: Georgia\, 'Times New Roman'\, Times\, serif\;"><span style="font-size: 9pt\;">*&nbsp\;Corporate Logo Displayed at Table</span><br />\n			<br />\n			<strong>Table of 8 Sponsor - $1500</strong></span></span>\n\n			<div style="font-size: 9pt\;"><span style="font-family: Arial\, Helvetica\, sans-serif\; font-size: 9pt\; color: #000000\;"><span style="font-family: Georgia\, 'Times New Roman'\, Times\, serif\;">* Table of 8</span></span></div>\n\n			<div style="font-size: 9pt\;"><span style="font-family: Arial\, Helvetica\, sans-serif\; font-size: 9pt\; color: #000000\;"><span style="font-family: Georgia\, 'Times New Roman'\, Times\, serif\;"><span>* &nbsp\;Prominent Recognition on all PR &amp\; Marketing</span></span></span></div>\n\n			<div style="font-size: 9pt\;"><span style="font-family: Arial\, Helvetica\, sans-serif\; font-size: 9pt\; color: #000000\;"><span style="font-family: Georgia\, 'Times New Roman'\, Times\, serif\;"><span><span>* Recognition During the Luncheon&nbsp\;</span>&nbsp\;</span></span></span></div>\n\n			<div style="font-size: 9pt\;"><span style="font-family: Arial\, Helvetica\, sans-serif\; font-size: 9pt\; color: #000000\;"><span style="font-family: Georgia\, 'Times New Roman'\, Times\, serif\;"><span>*&nbsp\;Corporate Logo Displayed at Table</span></span></span></div>\n			&nbsp\;\n\n			<div style="font-size: 10pt\;"><span style="font-family: Arial\, Helvetica\, sans-serif\; font-size: 9pt\; color: #000000\;"><span style="font-family: Georgia\, 'Times New Roman'\, Times\, serif\;"><span><strong>Host Sponsor- $250</strong></span>&nbsp\;</span></span></div>\n\n			<div style="font-size: 9pt\;"><span style="font-family: Arial\, Helvetica\, sans-serif\; font-size: 9pt\; color: #000000\;"><span style="font-family: Georgia\, 'Times New Roman'\, Times\, serif\;"><span>*&nbsp\;</span>&nbsp\;Recognition on All PR &amp\; Marketing&nbsp\;</span></span></div>\n\n			<div style="font-size: 9pt\;"><span style="font-family: Arial\, Helvetica\, sans-serif\; font-size: 9pt\; color: #000000\;"><span style="font-family: Georgia\, 'Times New Roman'\, Times\, serif\;"><span>*&nbsp\;</span>Corporate Logo Displayed at Table&nbsp\;</span></span></div>\n\n			<div style="font-size: 9pt\;"><span style="font-family: Arial\, Helvetica\, sans-serif\; font-size: 9pt\; color: #000000\;"><span style="font-family: Georgia\, 'Times New Roman'\, Times\, serif\;"><span>* Lunch</span>&nbsp\;for One</span></span></div>\n			<span style="font-family: Arial\, Helvetica\, sans-serif\; font-size: 9pt\; color: #000000\;"><span size="2" style="font-size: 9pt\;">&nbsp\;</span></span></div>\n\n			<div align="center" style="text-align: center\; font-size: 10pt\;"><span style="font-family: Arial\, Helvetica\, sans-serif\; font-size: 9pt\; color: #000000\;">For more information or to sign up for a sponsorship email <a href="mailto:events@bixbychamber.com?subject=State%20of%20the%20State" linktype="2" shape="rect" style="color: blue\; text-decoration: underline\;" target="_blank">events@bixbychamber.com</a>&nbsp\;</span><br />\n			<span style="color: rgb(0\, 0\, 0)\; font-family: Arial\, Helvetica\, sans-serif\; font-size: 9pt\;">or call (918) 366-9445.</span></div>\n			<span style="font-family: Arial\, Helvetica\, sans-serif\; font-size: 9pt\; color: #000000\;"><span style="font-size: 9pt\;">&nbsp\; &nbsp\;&nbsp\;</span></span></div>\n			</td>\n		</tr>\n	</tbody>\n</table>\n
LOCATION:SpiritBank Event Center- South Ballroom 10441 South Regal Blvd Tulsa\, OK 74133
UID:e.1611.667
SEQUENCE:3
DTSTAMP:20260421T090825Z
URL:https://portal.bixbychamber.com/events/details/2013-state-of-the-state-with-governor-fallin-08-23-2013-667
END:VEVENT

END:VCALENDAR
