BEGIN:VCALENDAR
VERSION:2.0
PRODID:-//ChamberMaster//Event Calendar 2.0//EN
METHOD:PUBLISH
X-PUBLISHED-TTL:P3D
REFRESH-INTERVAL:P3D
CALSCALE:GREGORIAN
BEGIN:VEVENT
DTSTART:20130507T230000Z
DTEND:20130507T230000Z
X-MICROSOFT-CDO-ALLDAYEVENT:FALSE
SUMMARY:2013 SPAGHETTI SUPPER and AUCTION
DESCRIPTION:YOU ARE INVITED\n\nGather up your family and friends and\n\ncome to the\n\nBIXBY HISTORICAL SOCIETY\n\n    \n\nSHAGHETTI SUPPER & AUCTION\n\n   \n\nAn evening of food and old-fashioned FUN!!\n\nAfter a delicious meal of spaghetti there will be a dessert auction.\n\nIn addition\, this year's auction will include a few non-food items.
X-ALT-DESC;FMTTYPE=text/html:<span style="font-size:14px\;"><span style="font-family: arial\;"><strong><span style="color: rgb(0\, 0\, 153)\;">YOU ARE INVITED</span></strong><br />\nGather up your family and friends and<br />\ncome to the<br />\n<span style="color: rgb(0\, 0\, 153)\;">BIXBY HISTORICAL SOCIETY</span><br />\n&nbsp\;&nbsp\;&nbsp\;&nbsp\;<br />\n<span style="font-weight: bold\; color: rgb(204\, 0\, 0)\;">SHAGHETTI SUPPER</span>&nbsp\;<strong><span style="color: rgb(204\, 0\, 0)\;">&amp\;&nbsp\;</span></strong><strong><span style="color: rgb(204\, 0\, 0)\;">AUCTION</span></strong><br />\n&nbsp\;&nbsp\;&nbsp\;<br />\nAn evening of food and old-fashioned <span style="color: red\;">FUN!!</span><br />\nAfter a delicious meal of spaghetti there will be a dessert auction.<br />\nIn addition\, this year&#39\;s auction will include a&nbsp\;few non-food items.</span></span>
LOCATION:Crossroad Fellowship Activity Center 100 W. Dawes --- Downtown Bixby
UID:e.1611.631
SEQUENCE:3
DTSTAMP:20260421T130208Z
URL:https://portal.bixbychamber.com/events/details/2013-spaghetti-supper-and-auction-05-07-2013-631
END:VEVENT

END:VCALENDAR
