BEGIN:VCALENDAR
VERSION:2.0
PRODID:-//ChamberMaster//Event Calendar 2.0//EN
METHOD:PUBLISH
X-PUBLISHED-TTL:P3D
REFRESH-INTERVAL:P3D
CALSCALE:GREGORIAN
BEGIN:VEVENT
DTSTART:20130714T163000Z
DTEND:20130714T190000Z
X-MICROSOFT-CDO-ALLDAYEVENT:FALSE
SUMMARY:2013 Spa Day for a Dream
DESCRIPTION:Take Heart Tulsa is hosting a Girl's Spa Day for March's Before I Die winner Andrea Clark to help her fund her trip to run the Marine Corp Marathon. Andrea\, who is a professional esthetician\, will teach us how to create our own beauty regiments and other helpful beauty tips. Make your own eye soothers\, mask and sugar scrub. Register at http://spadayforadream.eventbrite.com/ by July 10th.
X-ALT-DESC;FMTTYPE=text/html:Take Heart Tulsa is hosting a Girl&rsquo\;s Spa Day for March&rsquo\;s Before I Die winner Andrea Clark to help her fund her trip to run the Marine Corp Marathon. Andrea\, who is a professional esthetician\, will teach us how to create our own beauty regiments and other helpful beauty tips. Make your own eye soothers\, mask and sugar scrub. Register at http://spadayforadream.eventbrite.com/ by July 10th.
LOCATION:Holiday Inn 17 West 7th Street Tulsa\, OK
UID:e.1611.661
SEQUENCE:3
DTSTAMP:20260421T103108Z
URL:https://portal.bixbychamber.com/events/details/2013-spa-day-for-a-dream-07-14-2013-661
END:VEVENT

END:VCALENDAR
