BEGIN:VCALENDAR
VERSION:2.0
PRODID:-//ChamberMaster//Event Calendar 2.0//EN
METHOD:PUBLISH
X-PUBLISHED-TTL:P3D
REFRESH-INTERVAL:P3D
CALSCALE:GREGORIAN
BEGIN:VEVENT
DTSTART:20130926T160000Z
DTEND:20130927T000000Z
X-MICROSOFT-CDO-ALLDAYEVENT:FALSE
SUMMARY:2013 South County Business Expo
DESCRIPTION:The mission of the South County Business Expo is to promote the Chambers' Partners and aid them in building a greater partnership with area businesses while bring awareness\, education and stronger leadership to the South County area.\n\n \nTicket Sales\n\n\n	\n		\n			 \n			Day of Event \n		\n		\n			 \n			Member\n			Non Member\n		\n		\n			Expo Only\n			$10\n			$15\n		\n		\n			Lunch Only\n			$20\n			$25\n		\n		\n			Expo + Lunch\n			$25\n			$35\n		\n		\n			 \n			 \n			 \n		\n		\n			 \n			Presale \n		\n		\n			Expo + Lunch\n			$20\n			$30\n		\n	\n\n\n\n\n\n \n\nClick Register Online above to sign up for a booth or any of these sponsorships.\n\n \n\n	\n		\n			Premier Sponsor \n\n			\n\n			    Prominent booth location in main event area\n\n			    Top sponsor recognition in all publicity with\n\n			     company name/logo as part of event logo\n\n			    Premier sponsorship comes with right to retain    \n\n			     sponsorship through 2014\n\n			    Mentioned in all press releases\n\n			    Company logo on event map to be posted online\n\n			     and distributed at Expo\n\n			    Opportunity to provide a promotional piece to be\n\n			     included in event bags handed out to all\n\n			     attendees at registration\n\n			    Lunch for 2\n\n			 \n			\n			$ 2\,500 (1 Available)\n		\n		\n			\n			Presenting Sponsor \n\n			\n\n			    Prominent booth location in front of expo area\n\n			    Prominent Recognition on all PR/Marketing\n\n			    Opportunity to provide a promotional piece\n\n			    to be included in event bags handed out to all\n\n			    attendees at registration\n\n			    Lunch for 2\n\n			 \n			\n			$ 1\,000 (4 Available)\n		\n		\n			\n			Gold Sponsor \n\n			 \n\n			    30 foot booth space\n\n			    Prominent Recognition on all PR/Marketing\n\n			    Opportunity to provide a promotional piece to be\n\n			    Included in event bags handed out to all\n\n			    attendees at registration\n\n			    Lunch for 2\n\n			 \n			\n			$ 750 (4 Available)\n		\n		\n			\n			Silver Sponsor\n\n			 \n\n			    20 foot booth space\n\n			    Prominent Recognition on all PR/Marketing\n\n			    Opportunity to provide a promotional piece to be\n\n			    included in event bags handed out to all\n\n			    attendees at registration\n\n			    Lunch for 2\n\n			 \n			\n			$ 500 (4 Available)\n		\n		\n			\n			End Cap Booth \n\n			 \n\n			    10 foot end cap booth space\n\n			    Opportunity to provide a promotional piece\n\n			    to be included in event bags handed out to all\n\n			    attendees at registration\n\n			    Lunch for 1\n\n			 \n			\n			$ 250 (12 Available)\n		\n		\n			\n			Expo Booth $ 150\n\n			 \n\n			    10 foot booth space\n\n			    Opportunity to provide a promotional piece to be\n\n			    included in event bags handed out to all\n\n			    attendees at registration\n\n			    Lunch for 1\n\n			 \n			\n			(20 Available)\n		\n		\n			\n			Tote Bag Inserts $ 50\n\n			 \n\n			    Placement of Promotional Item in Goody Bags\n\n			    to be given to all attendees\n\n			 \n			\n			 (20 Available)\n		\n	\n\n \n\nBooth pricing and fees include:\n\n\n	Opportunity to provide a promotional piece to be included in event bags handed out to all attendees at registration\n	Booth space with pipe & drape\n	8' table with cloth & skirt\, 2 chairs\n\nClick Register Online above to sign up for a booth or any of these sponsorships.
X-ALT-DESC;FMTTYPE=text/html:<span style="font-family:arial\;"><span style="font-size:14px\;">The mission of the South County Business Expo is to promote the Chambers&rsquo\; Partners and aid them in building a greater partnership with area businesses while bring awareness\, education and stronger leadership to the South County area.</span></span><br />\n&nbsp\;\n<div><span style="font-family:arial\;"><span style="font-size:14px\;"><strong>Ticket Sales</strong></span></span></div>\n\n<table align="center" border="1" cellpadding="1" cellspacing="1" style="width: 500px\;">\n	<tbody>\n		<tr>\n			<td style="text-align: center\;">&nbsp\;</td>\n			<td colspan="2" rowspan="1" style="text-align: center\;"><span style="font-size:14px\;"><span style="font-family:arial\;"><strong>Day of Event&nbsp\;</strong></span></span></td>\n		</tr>\n		<tr>\n			<td style="text-align: center\;">&nbsp\;</td>\n			<td style="text-align: center\;"><span style="font-size:12px\;"><span style="font-family:arial\;"><strong>Member</strong></span></span></td>\n			<td style="text-align: center\;"><span style="font-size:12px\;"><span style="font-family:arial\;"><strong>Non Member</strong></span></span></td>\n		</tr>\n		<tr>\n			<td style="text-align: right\;"><span style="font-size:12px\;"><span style="font-family:arial\;">Expo Only</span></span></td>\n			<td style="text-align: center\;"><span style="font-size:12px\;"><span style="font-family:arial\;">$10</span></span></td>\n			<td style="text-align: center\;"><span style="font-size:12px\;"><span style="font-family:arial\;">$15</span></span></td>\n		</tr>\n		<tr>\n			<td style="text-align: right\;"><span style="font-size:12px\;"><span style="font-family:arial\;">Lunch Only</span></span></td>\n			<td style="text-align: center\;"><span style="font-size:12px\;"><span style="font-family:arial\;">$20</span></span></td>\n			<td style="text-align: center\;"><span style="font-size:12px\;"><span style="font-family:arial\;">$25</span></span></td>\n		</tr>\n		<tr>\n			<td style="text-align: right\;"><span style="font-size:12px\;"><span style="font-family:arial\;">Expo + Lunch</span></span></td>\n			<td style="text-align: center\;"><span style="font-size:12px\;"><span style="font-family:arial\;">$25</span></span></td>\n			<td style="text-align: center\;"><span style="font-size:12px\;"><span style="font-family:arial\;">$35</span></span></td>\n		</tr>\n		<tr>\n			<td style="text-align: center\;">&nbsp\;</td>\n			<td style="text-align: center\;">&nbsp\;</td>\n			<td style="text-align: center\; border-color: rgb(0\, 0\, 0)\;">&nbsp\;</td>\n		</tr>\n		<tr>\n			<td style="text-align: center\;">&nbsp\;</td>\n			<td colspan="2" rowspan="1" style="text-align: center\;"><span style="font-size:14px\;"><strong><span style="font-family:arial\;">Presale&nbsp\;</span></strong></span></td>\n		</tr>\n		<tr>\n			<td style="text-align: right\;"><span style="font-size:12px\;"><span style="font-family:arial\;">Expo + Lunch</span></span></td>\n			<td style="text-align: center\;"><span style="font-size:12px\;"><span style="font-family:arial\;"><span style="text-align: center\;">$20</span></span></span></td>\n			<td style="text-align: center\;"><span style="font-size:12px\;"><span style="font-family:arial\;"><span style="text-align: center\;">$30</span></span></span></td>\n		</tr>\n	</tbody>\n</table>\n<br />\n<br />\n<span style="font-family:arial\;"><span style="font-size:14px\;">&nbsp\;<br />\n<strong>Click Register Online above to sign up for a booth or any of these sponsorships.</strong></span></span><br />\n&nbsp\;\n<table border="0" cellpadding="1" cellspacing="1" style="width: 500px\;">\n	<tbody>\n		<tr>\n			<td style="vertical-align: top\;"><strong>Premier Sponsor&nbsp\;</strong>\n\n			<div style="margin-left: 40px\;"><br />\n			<strong>&bull\; &nbsp\;</strong> Prominent booth location in main event area<br />\n			<strong>&bull\; &nbsp\;</strong>&nbsp\;Top sponsor recognition in all publicity with<br />\n			&nbsp\; &nbsp\; &nbsp\;company name/logo as part of event logo<br />\n			<strong>&bull\; &nbsp\;</strong>&nbsp\;Premier sponsorship comes with right to retain &nbsp\; &nbsp\;<br />\n			&nbsp\; &nbsp\; &nbsp\;sponsorship through 2014<br />\n			<strong>&bull\; &nbsp\;</strong>&nbsp\;Mentioned in all press releases<br />\n			<strong>&bull\; &nbsp\;</strong>&nbsp\;Company logo on event map to be posted online<br />\n			&nbsp\; &nbsp\; &nbsp\;and distributed at Expo<br />\n			<strong>&bull\; &nbsp\;</strong>&nbsp\;Opportunity to provide a promotional piece to be<br />\n			&nbsp\; &nbsp\; &nbsp\;included in event bags handed out to all<br />\n			&nbsp\; &nbsp\; &nbsp\;attendees at&nbsp\;registration<br />\n			<strong>&bull\; &nbsp\;</strong>&nbsp\;Lunch for 2<br />\n			&nbsp\;</div>\n			</td>\n			<td style="vertical-align: top\; width: 125px\;"><span style="font-size:12px\;"><span style="font-family:arial\;"><strong>$ 2\,500 (1&nbsp\;Available)</strong></span></span></td>\n		</tr>\n		<tr>\n			<td style="vertical-align: top\;">\n			<div><strong>Presenting Sponsor&nbsp\;</strong></div>\n\n			<div style="margin-left: 40px\;"><br />\n			&bull\; &nbsp\;&nbsp\;Prominent booth location in front of expo area<br />\n			&bull\; &nbsp\;&nbsp\;Prominent Recognition on all PR/Marketing<br />\n			&bull\; &nbsp\;&nbsp\;Opportunity to provide a promotional piece<br />\n			&nbsp\; &nbsp\;&nbsp\;to be included in event bags handed out to all<br />\n			&nbsp\; &nbsp\;&nbsp\;attendees at registration<br />\n			&bull\; &nbsp\;&nbsp\;Lunch for 2<br />\n			&nbsp\;</div>\n			</td>\n			<td style="vertical-align: top\;"><span style="font-family:arial\;"><span style="font-size:12px\;"><strong>$ 1\,000 (4 Available)</strong></span></span></td>\n		</tr>\n		<tr>\n			<td style="vertical-align: top\;">\n			<div><strong>Gold Sponsor&nbsp\;</strong><br />\n			&nbsp\;</div>\n\n			<div style="margin-left: 40px\;">&bull\; &nbsp\;&nbsp\;30 foot booth space<br />\n			&bull\; &nbsp\;&nbsp\;Prominent Recognition on all PR/Marketing<br />\n			&bull\; &nbsp\;&nbsp\;Opportunity to provide a promotional piece to be<br />\n			&bull\; &nbsp\;&nbsp\;Included in event bags handed out to all<br />\n			&nbsp\; &nbsp\; attendees at registration<br />\n			&bull\; &nbsp\;&nbsp\;Lunch for 2<br />\n			&nbsp\;</div>\n			</td>\n			<td style="vertical-align: top\;"><span style="font-size:12px\;"><span style="font-family:arial\;"><strong>$ 750 (4 Available)</strong></span></span></td>\n		</tr>\n		<tr>\n			<td style="vertical-align: top\;">\n			<div><strong>Silver Sponsor</strong><br />\n			&nbsp\;</div>\n\n			<div style="margin-left: 40px\;">&bull\; &nbsp\;&nbsp\;20 foot booth space<br />\n			&bull\; &nbsp\;&nbsp\;Prominent Recognition on all PR/Marketing<br />\n			&bull\; &nbsp\;&nbsp\;Opportunity to provide a promotional piece to be<br />\n			&nbsp\; &nbsp\; included in event bags handed out to all<br />\n			&nbsp\; &nbsp\; attendees at registration<br />\n			&bull\; &nbsp\;&nbsp\;Lunch for 2<br />\n			&nbsp\;</div>\n			</td>\n			<td style="vertical-align: top\;"><span style="font-size:12px\;"><span style="font-family:arial\;"><strong>$ 500 (4 Available)</strong></span></span></td>\n		</tr>\n		<tr>\n			<td style="vertical-align: top\;">\n			<div><strong>End Cap Booth&nbsp\;</strong><br />\n			&nbsp\;</div>\n\n			<div style="margin-left: 40px\;">&bull\; &nbsp\;&nbsp\;10 foot end cap booth space<br />\n			&bull\; &nbsp\;&nbsp\;Opportunity to provide a promotional piece<br />\n			&nbsp\; &nbsp\; to be included in event bags handed out to all<br />\n			&nbsp\; &nbsp\; attendees at registration<br />\n			&bull\; &nbsp\;&nbsp\;Lunch for 1<br />\n			&nbsp\;</div>\n			</td>\n			<td style="vertical-align: top\;"><span style="font-size:12px\;"><span style="font-family:arial\;"><strong>$ 250 (12 Available)</strong></span></span></td>\n		</tr>\n		<tr>\n			<td style="vertical-align: top\;">\n			<div><strong>Expo Booth $ 150</strong><br />\n			&nbsp\;</div>\n\n			<div style="margin-left: 40px\;">&bull\; &nbsp\;&nbsp\;10 foot booth space<br />\n			&bull\; &nbsp\;&nbsp\;Opportunity to provide a promotional piece to be<br />\n			&nbsp\; &nbsp\; included in event bags handed out to all<br />\n			&nbsp\; &nbsp\; attendees at registration<br />\n			&bull\; &nbsp\;&nbsp\;Lunch for 1<br />\n			&nbsp\;</div>\n			</td>\n			<td style="vertical-align: top\;"><span style="font-size:12px\;"><span style="font-family:arial\;"><strong>(20 Available)</strong></span></span></td>\n		</tr>\n		<tr>\n			<td style="vertical-align: top\;">\n			<div><strong>Tote Bag Inserts $ 50</strong><br />\n			&nbsp\;</div>\n\n			<div style="margin-left: 40px\;">&bull\; &nbsp\;&nbsp\;Placement of Promotional Item in Goody Bags<br />\n			&nbsp\; &nbsp\; to be given to all attendees<br />\n			&nbsp\;</div>\n			</td>\n			<td style="vertical-align: top\;"><span style="font-size:12px\;"><span style="font-family:arial\;"><strong>&nbsp\;(20 Available)</strong></span></span></td>\n		</tr>\n	</tbody>\n</table>\n&nbsp\;\n\n<div><span style="font-size:10px\;"><em>Booth pricing and fees include:</em></span></div>\n\n<ul>\n	<li><span style="font-size:10px\;"><em>Opportunity to provide a promotional piece to be&nbsp\;</em></span><em style="font-size: 10px\;">included in event bags handed out to all attendees&nbsp\;</em><em style="font-size: 10px\;">at registration</em></li>\n	<li><em style="font-size: 10px\;">Booth space with pipe &amp\; drape</em></li>\n	<li><em style="font-size: 10px\;">8&rsquo\; table with cloth &amp\; skirt\, 2 chairs</em></li>\n</ul>\n<strong style="font-family: arial\; font-size: 14px\;">Click Register Online above to sign up for a booth or any of these sponsorships.</strong>
LOCATION:Glenpool Conference Center 12205 South Yukon Avenue Glenpool\, OK 74033
UID:e.1611.671
SEQUENCE:3
DTSTAMP:20260421T074906Z
URL:https://portal.bixbychamber.com/events/details/2013-south-county-business-expo-09-26-2013-671
END:VEVENT

END:VCALENDAR
