BEGIN:VCALENDAR
VERSION:2.0
PRODID:-//ChamberMaster//Event Calendar 2.0//EN
METHOD:PUBLISH
X-PUBLISHED-TTL:P3D
REFRESH-INTERVAL:P3D
CALSCALE:GREGORIAN
BEGIN:VEVENT
DTSTART:20130124T223000Z
DTEND:20130124T230000Z
X-MICROSOFT-CDO-ALLDAYEVENT:FALSE
SUMMARY:2013 Signature Interiors & Gold Star Horse Drawn Carriages Ribbon Cutting
DESCRIPTION:Margarita's & Appetizers provided from TiJuana's\, As well as\, Horse and Carriage rides & giveaways
X-ALT-DESC;FMTTYPE=text/html:<span style="font-family:times new roman\,serif\;"><span style="font-size:12.0pt\;">Margarita&#39\;s &amp\; Appetizers provided from TiJuana&#39\;s\, As well as\, Horse and Carriage rides &amp\; giveaways</span></span>
LOCATION:15017 South Grant Street Bixby\, OK 74008 Behind Sutherland's on 151st
UID:e.1611.316
SEQUENCE:3
DTSTAMP:20260421T181050Z
URL:https://portal.bixbychamber.com/events/details/2013-signature-interiors-gold-star-horse-drawn-carriages-ribbon-cutting-01-24-2013-316
END:VEVENT

END:VCALENDAR
