BEGIN:VCALENDAR
VERSION:2.0
PRODID:-//ChamberMaster//Event Calendar 2.0//EN
METHOD:PUBLISH
X-PUBLISHED-TTL:P3D
REFRESH-INTERVAL:P3D
CALSCALE:GREGORIAN
BEGIN:VEVENT
DTSTART:20130430T233000Z
DTEND:20130501T000000Z
X-MICROSOFT-CDO-ALLDAYEVENT:FALSE
SUMMARY:2013 Securing Your Retirement and Optimizing Your Social Security Benefits
DESCRIPTION:Join us for a complimentary dinner seminar regarding securing your retirement and how to optimize your social security benefits.
X-ALT-DESC;FMTTYPE=text/html:Join us for a complimentary dinner seminar regarding securing your retirement and how to optimize your social security benefits.
LOCATION:TBD
UID:e.1611.351
SEQUENCE:3
DTSTAMP:20260421T142321Z
URL:https://portal.bixbychamber.com/events/details/2013-securing-your-retirement-and-optimizing-your-social-security-benefits-04-30-2013-351
END:VEVENT

END:VCALENDAR
