BEGIN:VCALENDAR
VERSION:2.0
PRODID:-//ChamberMaster//Event Calendar 2.0//EN
METHOD:PUBLISH
X-PUBLISHED-TTL:P3D
REFRESH-INTERVAL:P3D
CALSCALE:GREGORIAN
BEGIN:VEVENT
DTSTART:20131214T000000Z
DTEND:20131214T020000Z
X-MICROSOFT-CDO-ALLDAYEVENT:FALSE
SUMMARY:2013 Rotary Club of Bixby Christmas Parade
DESCRIPTION:The Rotary Club of Bixby will hold the 11th Annual 2013 Christmas Parade Friday December 13th. The 2013 theme is A Candy Christmas\n\n\n\nHundreds will come to join the Christmas Fun! This is a fun family event that will kick off the Christmas Season in Bixby! Decorate floats\, cars\, antique vehicles\, pick-up trucks\, horses\, boats\, convertibles and motorcycles. This is our area's official start of the Christmas season!
X-ALT-DESC;FMTTYPE=text/html:The Rotary Club of Bixby will hold the 11th Annual 2013 Christmas Parade Friday December 13th. The 2013 theme is A Candy Christmas<br />\n<br />\nHundreds will come to join the Christmas Fun! This is a fun family event that will kick off the Christmas Season in Bixby! Decorate floats\, cars\, antique vehicles\, pick-up trucks\, horses\, boats\, convertibles and motorcycles. This is our area&#39\;s official start of the Christmas season!
LOCATION:Charley Young Park
UID:e.1611.1254
SEQUENCE:3
DTSTAMP:20260421T033824Z
URL:https://portal.bixbychamber.com/events/details/2013-rotary-club-of-bixby-christmas-parade-12-13-2013-1254
END:VEVENT

END:VCALENDAR
