BEGIN:VCALENDAR
VERSION:2.0
PRODID:-//ChamberMaster//Event Calendar 2.0//EN
METHOD:PUBLISH
X-PUBLISHED-TTL:P3D
REFRESH-INTERVAL:P3D
CALSCALE:GREGORIAN
BEGIN:VEVENT
DTSTART;VALUE=DATE:20130624
DTEND;VALUE=DATE:20130625
TRANSP:TRANSPARENT
X-MICROSOFT-CDO-ALLDAYEVENT:TRUE
SUMMARY:2013 Riverside Primary Care Opening
DESCRIPTION:Riverside Primary Care at 96th and Memorial will be opening at taking patients starting June 24\, 2013
X-ALT-DESC;FMTTYPE=text/html:Riverside Primary Care at&nbsp\;96th and Memorial will be opening at taking patients starting June 24\, 2013
LOCATION:9645 Riverside Parkway Suite C Tulsa\, OK 74137
UID:e.1611.653
SEQUENCE:3
DTSTAMP:20260421T113334Z
URL:https://portal.bixbychamber.com/events/details/2013-riverside-primary-care-opening-06-24-2013-653
END:VEVENT

END:VCALENDAR
