BEGIN:VCALENDAR
VERSION:2.0
PRODID:-//ChamberMaster//Event Calendar 2.0//EN
METHOD:PUBLISH
X-PUBLISHED-TTL:P3D
REFRESH-INTERVAL:P3D
CALSCALE:GREGORIAN
BEGIN:VEVENT
DTSTART:20130405T170000Z
DTEND:20130405T173000Z
X-MICROSOFT-CDO-ALLDAYEVENT:FALSE
SUMMARY:2013 Ribbon Cutting - Western Sun Federal Credit Union
DESCRIPTION:
X-ALT-DESC;FMTTYPE=text/html:
LOCATION:11709 S. Memorial Bixby OK 74008
UID:e.1611.617
SEQUENCE:3
DTSTAMP:20260421T142801Z
URL:https://portal.bixbychamber.com/events/details/2013-ribbon-cutting-western-sun-federal-credit-union-04-05-2013-617
END:VEVENT

END:VCALENDAR
