BEGIN:VCALENDAR
VERSION:2.0
PRODID:-//ChamberMaster//Event Calendar 2.0//EN
METHOD:PUBLISH
X-PUBLISHED-TTL:P3D
REFRESH-INTERVAL:P3D
CALSCALE:GREGORIAN
BEGIN:VEVENT
DTSTART:20130614T203000Z
DTEND:20130614T213000Z
X-MICROSOFT-CDO-ALLDAYEVENT:FALSE
SUMMARY:2013 Ribbon Cutting - US Cellular
DESCRIPTION:Refreshments will be provided\n\nGiveaway- 2 iHome blue tooth speakers
X-ALT-DESC;FMTTYPE=text/html:Refreshments will be provided<br />\nGiveaway- 2 iHome blue tooth speakers
LOCATION:8022 East 101st Street Tulsa\, OK 74133
UID:e.1611.636
SEQUENCE:3
DTSTAMP:20260421T114758Z
URL:https://portal.bixbychamber.com/events/details/2013-ribbon-cutting-us-cellular-06-14-2013-636
END:VEVENT

END:VCALENDAR
