BEGIN:VCALENDAR
VERSION:2.0
PRODID:-//ChamberMaster//Event Calendar 2.0//EN
METHOD:PUBLISH
X-PUBLISHED-TTL:P3D
REFRESH-INTERVAL:P3D
CALSCALE:GREGORIAN
BEGIN:VEVENT
DTSTART:20130718T213000Z
DTEND:20130718T220000Z
X-MICROSOFT-CDO-ALLDAYEVENT:FALSE
SUMMARY:2013 Ribbon Cutting - Riverside Primary Care
DESCRIPTION:
X-ALT-DESC;FMTTYPE=text/html:
LOCATION:Riverside Primary Care 9645 Riverside Parkway Suite C Tulsa\, OK 74137
UID:e.1611.660
SEQUENCE:3
DTSTAMP:20260421T115044Z
URL:https://portal.bixbychamber.com/events/details/2013-ribbon-cutting-riverside-primary-care-07-18-2013-660
END:VEVENT

END:VCALENDAR
