BEGIN:VCALENDAR
VERSION:2.0
PRODID:-//ChamberMaster//Event Calendar 2.0//EN
METHOD:PUBLISH
X-PUBLISHED-TTL:P3D
REFRESH-INTERVAL:P3D
CALSCALE:GREGORIAN
BEGIN:VEVENT
DTSTART:20131003T213000Z
DTEND:20131003T233000Z
X-MICROSOFT-CDO-ALLDAYEVENT:FALSE
SUMMARY:2013 Ribbon Cutting & Open House - CareATC
DESCRIPTION:CITY OF BIXBY AND CAREATC PARTNER IN EMPLOYEE HEALTH AND WELLNESS\n\nBIXBY - The City of Bixby and CareATC are pleased to announce that The Bixby Chamber of Commerce will be hosting a ribbon-cutting ceremony on Thursday\, October 3rd at 4:30pm at the new near-site clinic located at 12800 S Memorial in Bixby.  The public is invited.  CareATC welcomes the City of Bixby and its employees as a new member.  In addition\, any employers in the community interested in joining the CareATC Near-Site Clinic Network are encouraged to attend. \n\n"We are pleased to partner with the City of Bixby\, who was instrumental in the opening of our Bixby clinic. This marks our fifth multi-employer near-site clinic in Northeast Oklahoma\," states Paul Keeling\, Chief Business Development Officer for CareATC.
X-ALT-DESC;FMTTYPE=text/html:<strong><span style="font-family:arial\,sans-serif\;">CITY OF BIXBY AND CAREATC PARTNER IN EMPLOYEE HEALTH AND WELLNESS</span></strong><br />\n<span style="font-family:arial\,sans-serif\;">BIXBY - The City of Bixby and CareATC are pleased to announce that The Bixby Chamber of Commerce will be hosting a ribbon-cutting ceremony on Thursday\, October 3<sup>rd</sup> at 4:30pm at the new near-site clinic located at 12800 S Memorial in Bixby. &nbsp\;The public is invited.&nbsp\; CareATC welcomes the City of Bixby and its employees as a new member.&nbsp\; In addition\, any employers in the community interested in joining the CareATC Near-Site Clinic Network are encouraged to attend. </span><br />\n<span style="font-family:arial\,sans-serif\;">&ldquo\;We are pleased to partner with the City of Bixby\, who was instrumental in the opening of our Bixby clinic. This marks our fifth multi-employer near-site clinic in Northeast Oklahoma\,&ldquo\; states Paul Keeling\, Chief Business Development Officer for CareATC.</span>
LOCATION:12800 South Memorial\, Bixby\, OK 74008
UID:e.1611.695
SEQUENCE:3
DTSTAMP:20260421T074843Z
URL:https://portal.bixbychamber.com/events/details/2013-ribbon-cutting-open-house-careatc-10-03-2013-695
END:VEVENT

END:VCALENDAR
