BEGIN:VCALENDAR
VERSION:2.0
PRODID:-//ChamberMaster//Event Calendar 2.0//EN
METHOD:PUBLISH
X-PUBLISHED-TTL:P3D
REFRESH-INTERVAL:P3D
CALSCALE:GREGORIAN
BEGIN:VEVENT
DTSTART:20130516T213000Z
DTEND:20130516T220000Z
X-MICROSOFT-CDO-ALLDAYEVENT:FALSE
SUMMARY:2013 Ribbon Cutting - Media Connect Partners
DESCRIPTION:
X-ALT-DESC;FMTTYPE=text/html:
LOCATION:Bixby Metro Chamber of Commerce 10441 South Regal Boulevard Suite 104 Tulsa\, OK 74133
UID:e.1611.637
SEQUENCE:3
DTSTAMP:20260421T141130Z
URL:https://portal.bixbychamber.com/events/details/2013-ribbon-cutting-media-connect-partners-05-16-2013-637
END:VEVENT

END:VCALENDAR
