BEGIN:VCALENDAR
VERSION:2.0
PRODID:-//ChamberMaster//Event Calendar 2.0//EN
METHOD:PUBLISH
X-PUBLISHED-TTL:P3D
REFRESH-INTERVAL:P3D
CALSCALE:GREGORIAN
BEGIN:VEVENT
DTSTART:20131010T213000Z
DTEND:20131010T220000Z
X-MICROSOFT-CDO-ALLDAYEVENT:FALSE
SUMMARY:2013 Ribbon Cutting - MaidPro
DESCRIPTION:
X-ALT-DESC;FMTTYPE=text/html:
LOCATION:Bixby Metro Chamber of Commerce Board Room 10441 South Regal Boulevard Tulsa\, OK 74133
UID:e.1611.700
SEQUENCE:3
DTSTAMP:20260421T063839Z
URL:https://portal.bixbychamber.com/events/details/2013-ribbon-cutting-maidpro-10-10-2013-700
END:VEVENT

END:VCALENDAR
