BEGIN:VCALENDAR
VERSION:2.0
PRODID:-//ChamberMaster//Event Calendar 2.0//EN
METHOD:PUBLISH
X-PUBLISHED-TTL:P3D
REFRESH-INTERVAL:P3D
CALSCALE:GREGORIAN
BEGIN:VEVENT
DTSTART:20130329T043000Z
DTEND:20130328T170000Z
X-MICROSOFT-CDO-ALLDAYEVENT:FALSE
SUMMARY:2013 Ribbon Cutting - Luxa
DESCRIPTION:
X-ALT-DESC;FMTTYPE=text/html:
LOCATION:5514 South Lewis Avenue Tulsa\, OK 74105
UID:e.1611.601
SEQUENCE:3
DTSTAMP:20260421T152256Z
URL:https://portal.bixbychamber.com/events/details/2013-ribbon-cutting-luxa-03-28-2013-601
END:VEVENT

END:VCALENDAR
