BEGIN:VCALENDAR
VERSION:2.0
PRODID:-//ChamberMaster//Event Calendar 2.0//EN
METHOD:PUBLISH
X-PUBLISHED-TTL:P3D
REFRESH-INTERVAL:P3D
CALSCALE:GREGORIAN
BEGIN:VEVENT
DTSTART:20130314T213000Z
DTEND:20130314T220000Z
X-MICROSOFT-CDO-ALLDAYEVENT:FALSE
SUMMARY:2013 Ribbon Cutting - Insphere Insurance Solutions
DESCRIPTION:
X-ALT-DESC;FMTTYPE=text/html:
LOCATION:1915 West C Street Jenks\, OK 74037
UID:e.1611.346
SEQUENCE:3
DTSTAMP:20260421T153024Z
URL:https://portal.bixbychamber.com/events/details/2013-ribbon-cutting-insphere-insurance-solutions-03-14-2013-346
END:VEVENT

END:VCALENDAR
