BEGIN:VCALENDAR
VERSION:2.0
PRODID:-//ChamberMaster//Event Calendar 2.0//EN
METHOD:PUBLISH
X-PUBLISHED-TTL:P3D
REFRESH-INTERVAL:P3D
CALSCALE:GREGORIAN
BEGIN:VEVENT
DTSTART:20130321T213000Z
DTEND:20130321T220000Z
X-MICROSOFT-CDO-ALLDAYEVENT:FALSE
SUMMARY:2013 Ribbon Cutting - Helsys Technology/ Ballyhoo/ 4E Fitness
DESCRIPTION:There will be door prizes\, live band\, drinks\, &  appetizers.
X-ALT-DESC;FMTTYPE=text/html:<span style="font-family:calibri\,sans-serif\;"><span style="font-size:11.0pt\;">There will be door prizes\, live band\, drinks\, &amp\; &nbsp\;appetizers.&nbsp\;</span></span>
LOCATION:2510 East 15th Street Tulsa\, OK 74104
UID:e.1611.600
SEQUENCE:3
DTSTAMP:20260421T163939Z
URL:https://portal.bixbychamber.com/events/details/2013-ribbon-cutting-helsys-technology-ballyhoo-4e-fitness-03-21-2013-600
END:VEVENT

END:VCALENDAR
