BEGIN:VCALENDAR
VERSION:2.0
PRODID:-//ChamberMaster//Event Calendar 2.0//EN
METHOD:PUBLISH
X-PUBLISHED-TTL:P3D
REFRESH-INTERVAL:P3D
CALSCALE:GREGORIAN
BEGIN:VEVENT
DTSTART:20131010T143000Z
DTEND:20131010T153000Z
X-MICROSOFT-CDO-ALLDAYEVENT:FALSE
SUMMARY:2013 Ribbon Cutting & Grand Opening - Raising Cane's Chicken Fingers
DESCRIPTION:1st 100 People in the Lobby will receive a free t-shirt and a coupon for a free box combo for next visit.
X-ALT-DESC;FMTTYPE=text/html:1st 100 People in the Lobby will receive a free t-shirt and a coupon for a free box combo for next visit.
LOCATION:10255 South Memorial Tulsa\, OK 74133
UID:e.1611.697
SEQUENCE:3
DTSTAMP:20260421T075045Z
URL:https://portal.bixbychamber.com/events/details/2013-ribbon-cutting-grand-opening-raising-cane-s-chicken-fingers-10-10-2013-697
END:VEVENT

END:VCALENDAR
