BEGIN:VCALENDAR
VERSION:2.0
PRODID:-//ChamberMaster//Event Calendar 2.0//EN
METHOD:PUBLISH
X-PUBLISHED-TTL:P3D
REFRESH-INTERVAL:P3D
CALSCALE:GREGORIAN
BEGIN:VEVENT
DTSTART:20130411T160000Z
DTEND:20130411T170000Z
X-MICROSOFT-CDO-ALLDAYEVENT:FALSE
SUMMARY:2013 Ribbon Cutting - Fast Signs
DESCRIPTION:Does your business or organization need a visual marketing transformation? \n\nFASTSIGNS of Broken Arrow understands that your business or organization is a dynamic collaboration of people\, products and ideas\, and we want to help you communicate that with our comprehensive visual marketing solutions. \n\nWe are excited to become a part of your community\, and as part of our Grand Opening\, we are giving away a customized visual graphic makeover to a local business or charitable organization\, valued at $2\,500.00. \n\nWant a chance to win? Submit a 250-word or less write up describing why your business or organization should be MetamorphoSIGNed\, along with a photograph of your place of business\, whether that is a building\, a catering truck or a trade show floor. Submissions will be collected until March 10th.
X-ALT-DESC;FMTTYPE=text/html:<strong><span style="font-family:arial\,sans-serif\;"><span style="font-size:16.5pt\;">Does your business or organization need a visual marketing transformation? </span></span></strong><br />\n<span style="font-family:arial\,sans-serif\;"><span style="font-size:10.5pt\;">FASTSIGNS of Broken Arrow understands that your business or organization is a dynamic collaboration of people\, products and ideas\, and we want to help you communicate that with our comprehensive visual marketing solutions. </span></span><br />\n<span style="font-family:arial\,sans-serif\;"><span style="font-size:10.5pt\;">We are excited to become a part of your community\, and as part of our Grand Opening\, we are giving away a customized visual graphic makeover to a local business or charitable organization\, valued at $2\,500.00. </span></span><br />\n<span style="font-family:arial\,sans-serif\;"><span style="font-size:10.5pt\;">Want a chance to win? Submit a 250-word or less write up describing why your business or organization should be MetamorphoSIGNed\, along with a photograph of your place of business\, whether that is a building\, a catering truck or a trade show floor. Submissions will be collected until March 10th. </span></span><br />\n&nbsp\;
LOCATION:927 North Elm Place Broken Arrow\, OK 74012
UID:e.1611.613
SEQUENCE:3
DTSTAMP:20260421T153018Z
URL:https://portal.bixbychamber.com/events/details/2013-ribbon-cutting-fast-signs-04-11-2013-613
END:VEVENT

END:VCALENDAR
