BEGIN:VCALENDAR
VERSION:2.0
PRODID:-//ChamberMaster//Event Calendar 2.0//EN
METHOD:PUBLISH
X-PUBLISHED-TTL:P3D
REFRESH-INTERVAL:P3D
CALSCALE:GREGORIAN
BEGIN:VEVENT
DTSTART:20130502T213000Z
DTEND:20130502T220000Z
X-MICROSOFT-CDO-ALLDAYEVENT:FALSE
SUMMARY:2013 Ribbon Cutting - Edward Jones
DESCRIPTION:
X-ALT-DESC;FMTTYPE=text/html:
LOCATION:13330 South Memorial
UID:e.1611.614
SEQUENCE:3
DTSTAMP:20260421T130446Z
URL:https://portal.bixbychamber.com/events/details/2013-ribbon-cutting-edward-jones-05-02-2013-614
END:VEVENT

END:VCALENDAR
