BEGIN:VCALENDAR
VERSION:2.0
PRODID:-//ChamberMaster//Event Calendar 2.0//EN
METHOD:PUBLISH
X-PUBLISHED-TTL:P3D
REFRESH-INTERVAL:P3D
CALSCALE:GREGORIAN
BEGIN:VEVENT
DTSTART:20131024T213000Z
DTEND:20131024T220000Z
X-MICROSOFT-CDO-ALLDAYEVENT:FALSE
SUMMARY:2013 Ribbon Cutting - Camp Bow Wow
DESCRIPTION:
X-ALT-DESC;FMTTYPE=text/html:
LOCATION:Camp Bow Wow 14992 South Grant Street Bixby\, OK 74008
UID:e.1611.699
SEQUENCE:3
DTSTAMP:20260421T075102Z
URL:https://portal.bixbychamber.com/events/details/2013-ribbon-cutting-camp-bow-wow-10-24-2013-699
END:VEVENT

END:VCALENDAR
