BEGIN:VCALENDAR
VERSION:2.0
PRODID:-//ChamberMaster//Event Calendar 2.0//EN
METHOD:PUBLISH
X-PUBLISHED-TTL:P3D
REFRESH-INTERVAL:P3D
CALSCALE:GREGORIAN
BEGIN:VEVENT
DTSTART:20130307T223000Z
DTEND:20130307T230000Z
X-MICROSOFT-CDO-ALLDAYEVENT:FALSE
SUMMARY:2013 Ribbon Cutting - Bixby Tire Barn
DESCRIPTION:
X-ALT-DESC;FMTTYPE=text/html:
LOCATION:14645 South Memorial Bixby\, OK 74008
UID:e.1611.599
SEQUENCE:3
DTSTAMP:20260421T163454Z
URL:https://portal.bixbychamber.com/events/details/2013-ribbon-cutting-bixby-tire-barn-03-07-2013-599
END:VEVENT

END:VCALENDAR
