BEGIN:VCALENDAR
VERSION:2.0
PRODID:-//ChamberMaster//Event Calendar 2.0//EN
METHOD:PUBLISH
X-PUBLISHED-TTL:P3D
REFRESH-INTERVAL:P3D
CALSCALE:GREGORIAN
BEGIN:VEVENT
DTSTART:20131219T223000Z
DTEND:20131219T230000Z
X-MICROSOFT-CDO-ALLDAYEVENT:FALSE
SUMMARY:2013 Ribbon Cutting- Ballroom Blitz
DESCRIPTION:Ribbon Cutting followed by a tour\, refreshments and a Salsa dance lesson.
X-ALT-DESC;FMTTYPE=text/html:<span style="font-family: arial\, sans-serif\;">Ribbon Cutting followed by a tour\, refreshments and a Salsa dance lesson.&nbsp\;</span>
LOCATION:4960D S. 83rd E. Ave. Tulsa\, OK 74145 Behind Walgreens on 51 & Memorial
UID:e.1611.1300
SEQUENCE:3
DTSTAMP:20260421T050538Z
URL:https://portal.bixbychamber.com/events/details/2013-ribbon-cutting-ballroom-blitz-12-19-2013-1300
END:VEVENT

END:VCALENDAR
