BEGIN:VCALENDAR
VERSION:2.0
PRODID:-//ChamberMaster//Event Calendar 2.0//EN
METHOD:PUBLISH
X-PUBLISHED-TTL:P3D
REFRESH-INTERVAL:P3D
CALSCALE:GREGORIAN
BEGIN:VEVENT
DTSTART;VALUE=DATE:20130803
DTEND;VALUE=DATE:20130804
TRANSP:TRANSPARENT
X-MICROSOFT-CDO-ALLDAYEVENT:TRUE
SUMMARY:2013 Reach-A-Bull Disaster Relief Bully Fun Show
DESCRIPTION:The proceeds will benefit the communities of:\n\nMoore\n\nShawnee\n\nEl Reno\n\nCarney\n\n\n\nDog Classes:\n\nPocket\n\nStandard\n\nClassic\n\nXL\n\nExtreme\n\nPuppy 3months - 6months\n\nPuppy 7 months - 12 months\n\n\n\nJunior Handler Show:\n\n6-12 yrs of age\n\n13-18 years of age
X-ALT-DESC;FMTTYPE=text/html:<span style="color:rgb(51\,51\,51)\;"><span style="font-family:tahoma\,sans-serif\;"><span style="font-size:10pt\;">The proceeds will benefit the communities of:</span></span></span><br />\n<span style="color:#333333\;"><span style="font-family:tahoma\,sans-serif\;"><span style="font-size:10.0pt\;">Moore<br />\nShawnee<br />\nEl Reno<br />\nCarney</span></span></span><br />\n<br />\n<span style="color:rgb(51\,51\,51)\;"><span style="font-family:tahoma\,sans-serif\;"><span style="font-size:10pt\;">Dog Classes:</span></span></span><br />\n<span style="color:#333333\;"><span style="font-family:tahoma\,sans-serif\;"><span style="font-size:10.0pt\;">Pocket<br />\nStandard<br />\nClassic<br />\nXL</span><br />\nExtreme<br />\nPuppy 3months - 6months</span><br />\nPuppy 7 months - 12 months</span><br />\n<br />\nJunior Handler Show:<br />\n6-12 yrs of age<br />\n13-18 years of age
LOCATION:Tulsa RV Arena 2548 Highway 75 Beggs\, OK 74421
UID:e.1611.668
SEQUENCE:3
DTSTAMP:20260421T090817Z
URL:https://portal.bixbychamber.com/events/details/2013-reach-a-bull-disaster-relief-bully-fun-show-08-03-2013-668
END:VEVENT

END:VCALENDAR
