BEGIN:VCALENDAR
VERSION:2.0
PRODID:-//ChamberMaster//Event Calendar 2.0//EN
METHOD:PUBLISH
X-PUBLISHED-TTL:P3D
REFRESH-INTERVAL:P3D
CALSCALE:GREGORIAN
BEGIN:VEVENT
DTSTART:20131103T003000Z
DTEND:20131103T030000Z
X-MICROSOFT-CDO-ALLDAYEVENT:FALSE
SUMMARY:2013 Professional Roughstock Series Tulsa Open
DESCRIPTION:The most electrifying 8 Seconds in sports\, the Professional Roughstock Series (PRS) Tulsa Open features World Champion athletes matched against over $2 million worth of bucking stock for an exciting\, family-friendly extravaganza! The PRS Tulsa Open is the 13th stop on the Nationally Televised 2013 PRS Tour. See the best in the business fight for their rodeo lives in the most dangerous events   Bareback Riding\, Bull Riding and Saddle Bronc Riding!\n\nThe roster of Cowboy Athletes for the Tulsa Open includes PRS bareback points leader Josi Young\, former World Champion multi-sport athlete (bareback / bull riding) Justin McDaniel\, and defending PRS World Champion bareback rider Steven Peebles. The Bull Riding field includes former Professional Bull Riding World Finalist and PRS points-leader McKennon Wimberly. The list also includes some of the best Saddle Bronc riders in the world including Cort Scheer\, Troy Crowser and PRS Points Leader JJ Elshere.
X-ALT-DESC;FMTTYPE=text/html:<span style="font-family:arial\;"><span style="font-size:10.5pt\;">The most electrifying 8 Seconds in sports\, the Professional Roughstock Series (PRS) Tulsa Open features World Champion athletes matched against over $2 million worth of bucking stock for an exciting\, family-friendly extravaganza! The PRS Tulsa Open is the 13th stop on the Nationally Televised 2013 PRS Tour. See the best in the business fight for their rodeo lives in the most dangerous events &ndash\; Bareback Riding\, Bull Riding and Saddle Bronc Riding!</span><br />\n<span style="font-size:10.5pt\;">The roster of Cowboy Athletes for the Tulsa Open includes PRS bareback points leader Josi Young\, former World Champion multi-sport athlete (bareback / bull riding) Justin McDaniel\, and defending PRS World Champion bareback rider Steven Peebles. The Bull Riding field includes former Professional Bull Riding World Finalist and PRS points-leader McKennon Wimberly. The list also includes some of the best Saddle Bronc riders in the world including Cort Scheer\, Troy Crowser and PRS Points Leader JJ Elshere.</span></span>
LOCATION:SpiritBank Event Center 10441 South Regal Boulevard Tulsa\, OK 74133
UID:e.1611.1243
SEQUENCE:3
DTSTAMP:20260421T050645Z
URL:https://portal.bixbychamber.com/events/details/2013-professional-roughstock-series-tulsa-open-11-02-2013-1243
END:VEVENT

END:VCALENDAR
