BEGIN:VCALENDAR
VERSION:2.0
PRODID:-//ChamberMaster//Event Calendar 2.0//EN
METHOD:PUBLISH
X-PUBLISHED-TTL:P3D
REFRESH-INTERVAL:P3D
CALSCALE:GREGORIAN
BEGIN:VEVENT
DTSTART;VALUE=DATE:20130817
DTEND;VALUE=DATE:20130818
TRANSP:TRANSPARENT
X-MICROSOFT-CDO-ALLDAYEVENT:TRUE
SUMMARY:2013 Phoebe's Fair
DESCRIPTION:Tulsa RV Ranch Arena  \n\nPresents\n\nPhoebe's Fair\n\nA benefit to fight against Children's Cancer\n\n\n\nPhoebe Fair 3 years old - Fighting AT/RT   A very rare Brain Cancer
X-ALT-DESC;FMTTYPE=text/html:<span style="font-size:14px\;"><span style="font-family:arial\;"><strong>Tulsa RV Ranch Arena </strong>&nbsp\;<br />\n<strong>Presents</strong><br />\n<strong>P</strong><strong>h</strong><strong>o</strong><strong>e</strong><strong>b</strong><strong>e</strong><strong>&rsquo\;</strong><strong>s </strong><strong>F</strong><strong>a</strong><strong>i</strong><strong>r</strong><br />\n<strong>A benefit to fight against Children&rsquo\;s Cancer</strong><br />\n<br />\n<strong>Phoebe Fair 3 years old - Fighting AT/RT &ndash\; A very rare Brain Cancer&nbsp\;</strong></span></span><br />\n<br />\n&nbsp\;
LOCATION:Tulsa RV Arena 2548 Highway 75 Beggs\, OK 74421
UID:e.1611.669
SEQUENCE:3
DTSTAMP:20260421T101658Z
URL:https://portal.bixbychamber.com/events/details/2013-phoebe-s-fair-08-17-2013-669
END:VEVENT

END:VCALENDAR
