BEGIN:VCALENDAR
VERSION:2.0
PRODID:-//ChamberMaster//Event Calendar 2.0//EN
METHOD:PUBLISH
X-PUBLISHED-TTL:P3D
REFRESH-INTERVAL:P3D
CALSCALE:GREGORIAN
BEGIN:VEVENT
DTSTART:20130425T000000Z
DTEND:20130425T023000Z
X-MICROSOFT-CDO-ALLDAYEVENT:FALSE
SUMMARY:2013 Performance Coach - Bring Your Coach to Work
DESCRIPTION:A new program for business and managers and supervisors. \n\n\n\nBy Dr. Sandra Campbell and Gary Keck
X-ALT-DESC;FMTTYPE=text/html:A new program for business and managers and supervisors.&nbsp\;<br />\n<br />\nBy Dr. Sandra Campbell and Gary Keck&nbsp\;&nbsp\;&nbsp\;&nbsp\;&nbsp\;&nbsp\;&nbsp\;&nbsp\;
LOCATION:Northeastern State University Administrative Services Building \, Room 170
UID:e.1611.606
SEQUENCE:3
DTSTAMP:20260421T141359Z
URL:https://portal.bixbychamber.com/events/details/2013-performance-coach-bring-your-coach-to-work-04-24-2013-606
END:VEVENT

END:VCALENDAR
