BEGIN:VCALENDAR
VERSION:2.0
PRODID:-//ChamberMaster//Event Calendar 2.0//EN
METHOD:PUBLISH
X-PUBLISHED-TTL:P3D
REFRESH-INTERVAL:P3D
CALSCALE:GREGORIAN
BEGIN:VEVENT
DTSTART:20130426T180000Z
DTEND:20130426T200000Z
X-MICROSOFT-CDO-ALLDAYEVENT:FALSE
SUMMARY:2013 ORU College of Business-ORU eThrive
DESCRIPTION:A free seminar about increasing revenue in business through online presence.\n\nThis will be a great place for business owners to network\, engage\, and see how ORU can help their businesses.
X-ALT-DESC;FMTTYPE=text/html:<span style="font-family:arial\,sans-serif\;"><span style="font-size:10.0pt\;">A free seminar about increasing revenue in business through online presence.<br />\nThis will be a great place for business owners to network\, engage\, and see how ORU can help their businesses.&nbsp\;</span></span>
LOCATION:Oral Roberts University 7777 S Lewis Ave Tulsa\, OK 74171
UID:e.1611.630
SEQUENCE:3
DTSTAMP:20260421T142604Z
URL:https://portal.bixbychamber.com/events/details/2013-oru-college-of-business-oru-ethrive-04-26-2013-630
END:VEVENT

END:VCALENDAR
