BEGIN:VCALENDAR
VERSION:2.0
PRODID:-//ChamberMaster//Event Calendar 2.0//EN
METHOD:PUBLISH
X-PUBLISHED-TTL:P3D
REFRESH-INTERVAL:P3D
CALSCALE:GREGORIAN
BEGIN:VEVENT
DTSTART;VALUE=DATE:20130912
DTEND;VALUE=DATE:20130924
TRANSP:TRANSPARENT
X-MICROSOFT-CDO-ALLDAYEVENT:TRUE
SUMMARY:2013 Order your Blue Gold Sausage Bixby FFA
DESCRIPTION:Order your Blue Gold Sausage today!! \n\nBixby FFA   Booster Club is doing their Annual Fundraiser. \n\n \n\nTo place an order  -  contact a Bixby FFA Student or contact their\n\nPresident - John Parkinson at:\n\nJp.bixby@yahoo.com or call him at 918-859-7520\n\nOrders must be placed on or before September 23rd.
X-ALT-DESC;FMTTYPE=text/html:Order your <strong>Blue Gold Sausage</strong> today!!&nbsp\;<br />\nBixby FFA &ndash\; Booster Club is doing their Annual Fundraiser.&nbsp\;<br />\n&nbsp\;<br />\nTo place an order &nbsp\;-&nbsp\; contact a Bixby FFA Student or contact their<br />\nPresident - John Parkinson at:<br />\n<a href="mailto:Jp.bixby@yahoo.com">Jp.bixby@yahoo.com</a> or call him at 918-859-7520<br />\nOrders must be placed on or before September 23<sup>rd</sup>. &nbsp\;
LOCATION:
UID:e.1611.690
SEQUENCE:3
DTSTAMP:20260421T074822Z
URL:https://portal.bixbychamber.com/events/details/2013-order-your-blue-gold-sausage-bixby-ffa-09-12-2013-690
END:VEVENT

END:VCALENDAR
