BEGIN:VCALENDAR
VERSION:2.0
PRODID:-//ChamberMaster//Event Calendar 2.0//EN
METHOD:PUBLISH
X-PUBLISHED-TTL:P3D
REFRESH-INTERVAL:P3D
CALSCALE:GREGORIAN
BEGIN:VEVENT
DTSTART:20130422T180000Z
DTEND:20130422T210000Z
X-MICROSOFT-CDO-ALLDAYEVENT:FALSE
SUMMARY:2013 OMC! Spring into Spring Mondays' Brain Games
DESCRIPTION:The Music of Sound- Have you ever noticed how that certain song (or a storm\, or a puring cat) can change your mood? What is sound? How do sounds affect & relate to IQ and emotions? How can we use sound to improve communication?
X-ALT-DESC;FMTTYPE=text/html:The Music of Sound- Have you ever noticed how that certain song (or a storm\, or a&nbsp\;puring&nbsp\;cat) can change your mood? What is sound? How do sounds affect &amp\; relate to IQ and emotions? How can we use sound to improve communication?&nbsp\;
LOCATION:13160 South Memorial Drive Bixby\, Oklahoma 74008
UID:e.1611.564
SEQUENCE:3
DTSTAMP:20260421T141522Z
URL:https://portal.bixbychamber.com/events/details/2013-omc-spring-into-spring-mondays-brain-games-04-22-2013-564
END:VEVENT

END:VCALENDAR
