BEGIN:VCALENDAR
VERSION:2.0
PRODID:-//ChamberMaster//Event Calendar 2.0//EN
METHOD:PUBLISH
X-PUBLISHED-TTL:P3D
REFRESH-INTERVAL:P3D
CALSCALE:GREGORIAN
BEGIN:VEVENT
DTSTART:20130408T180000Z
DTEND:20130408T210000Z
X-MICROSOFT-CDO-ALLDAYEVENT:FALSE
SUMMARY:2013 OMC! Spring into Spring Mondays' Brain Games
DESCRIPTION:Let's Fight - Most of us hate conflict. What if we could experience conflict in a new way- learning what causes conflict and how to resolve it. After this lecture and discussion\, you may even enjoy it!
X-ALT-DESC;FMTTYPE=text/html:Let&#39\;s Fight - Most of us hate conflict. What if we could experience conflict in a new way- learning what causes conflict and how to resolve it. After this lecture and discussion\, you may even enjoy it!&nbsp\;
LOCATION:13160 South Memorial Drive Bixby\, Oklahoma 74008
UID:e.1611.566
SEQUENCE:3
DTSTAMP:20260421T141521Z
URL:https://portal.bixbychamber.com/events/details/2013-omc-spring-into-spring-mondays-brain-games-04-08-2013-566
END:VEVENT

END:VCALENDAR
