BEGIN:VCALENDAR
VERSION:2.0
PRODID:-//ChamberMaster//Event Calendar 2.0//EN
METHOD:PUBLISH
X-PUBLISHED-TTL:P3D
REFRESH-INTERVAL:P3D
CALSCALE:GREGORIAN
BEGIN:VEVENT
DTSTART:20130311T150000Z
DTEND:20130311T180000Z
X-MICROSOFT-CDO-ALLDAYEVENT:FALSE
SUMMARY:2013 OMC! Spring into Spring Mondays' Brain Games
DESCRIPTION:What's my type- Keirsey Temperament sorter\, a tool used by teachers\, businesses\, and leaders\, is a scientific analysis of personal preferences. Improve your life\, career\, relationships and decisions- by getting Typed!
X-ALT-DESC;FMTTYPE=text/html:What&#39\;s my type-&nbsp\;Keirsey&nbsp\;Temperament sorter\, a tool used by teachers\, businesses\, and leaders\, is a scientific analysis of personal preferences. Improve your life\, career\, relationships and decisions- by getting Typed!
LOCATION:13160 South Memorial Drive Bixby\, Oklahoma 74008
UID:e.1611.568
SEQUENCE:3
DTSTAMP:20260421T151826Z
URL:https://portal.bixbychamber.com/events/details/2013-omc-spring-into-spring-mondays-brain-games-03-11-2013-568
END:VEVENT

END:VCALENDAR
