BEGIN:VCALENDAR
VERSION:2.0
PRODID:-//ChamberMaster//Event Calendar 2.0//EN
METHOD:PUBLISH
X-PUBLISHED-TTL:P3D
REFRESH-INTERVAL:P3D
CALSCALE:GREGORIAN
BEGIN:VEVENT
DTSTART:20130425T180000Z
DTEND:20130425T210000Z
X-MICROSOFT-CDO-ALLDAYEVENT:FALSE
SUMMARY:2013 OMC! Presents Business Workshops
DESCRIPTION:Trademark- A short three-hour lecture to show you how to create and police your trademark.
X-ALT-DESC;FMTTYPE=text/html:Trademark- A short three-hour lecture to show you how to create and police your trademark.&nbsp\;
LOCATION:13160 South Memorial Drive Bixby\, Oklahoma 74008
UID:e.1611.592
SEQUENCE:3
DTSTAMP:20260421T141608Z
URL:https://portal.bixbychamber.com/events/details/2013-omc-presents-business-workshops-04-25-2013-592
END:VEVENT

END:VCALENDAR
