BEGIN:VCALENDAR
VERSION:2.0
PRODID:-//ChamberMaster//Event Calendar 2.0//EN
METHOD:PUBLISH
X-PUBLISHED-TTL:P3D
REFRESH-INTERVAL:P3D
CALSCALE:GREGORIAN
BEGIN:VEVENT
DTSTART:20130328T140000Z
DTEND:20130328T200000Z
X-MICROSOFT-CDO-ALLDAYEVENT:FALSE
SUMMARY:2013 OMC! Presents Business Workshops
DESCRIPTION:Temperament For Leaders - Keirsey Temperament sorter is a scientific analysis of personal preferences used by professionals worldwide. Understanding your team's - and your own- temperament style allows you to improve performance\, increase profitability\, and provide better service to your customers. Hiring and training become second nature and motivating your team become a snap!
X-ALT-DESC;FMTTYPE=text/html:Temperament For Leaders - Keirsey Temperament sorter is a scientific analysis of personal preferences used by professionals worldwide. Understanding your team&#39\;s - and your own- temperament style allows you to improve performance\, increase profitability\, and provide better service to your customers. Hiring and training become second nature and motivating your team become a snap!&nbsp\;
LOCATION:13160 South Memorial Drive Bixby\, Oklahoma 74008
UID:e.1611.593
SEQUENCE:3
DTSTAMP:20260421T151720Z
URL:https://portal.bixbychamber.com/events/details/2013-omc-presents-business-workshops-03-28-2013-593
END:VEVENT

END:VCALENDAR
