BEGIN:VCALENDAR
VERSION:2.0
PRODID:-//ChamberMaster//Event Calendar 2.0//EN
METHOD:PUBLISH
X-PUBLISHED-TTL:P3D
REFRESH-INTERVAL:P3D
CALSCALE:GREGORIAN
BEGIN:VEVENT
DTSTART:20130321T180000Z
DTEND:20130321T210000Z
X-MICROSOFT-CDO-ALLDAYEVENT:FALSE
SUMMARY:2013 OMC! Presents Business Workshops
DESCRIPTION:Copyright - A short three-hour lecture to help creators protect their creations!
X-ALT-DESC;FMTTYPE=text/html:Copyright - A short three-hour lecture to help creators protect their creations!&nbsp\;
LOCATION:13160 South Memorial Drive Bixby\, Oklahoma 74008
UID:e.1611.589
SEQUENCE:3
DTSTAMP:20260421T152254Z
URL:https://portal.bixbychamber.com/events/details/2013-omc-presents-business-workshops-03-21-2013-589
END:VEVENT

END:VCALENDAR
