BEGIN:VCALENDAR
VERSION:2.0
PRODID:-//ChamberMaster//Event Calendar 2.0//EN
METHOD:PUBLISH
X-PUBLISHED-TTL:P3D
REFRESH-INTERVAL:P3D
CALSCALE:GREGORIAN
BEGIN:VEVENT
DTSTART:20130316T140000Z
DTEND:20130316T170000Z
X-MICROSOFT-CDO-ALLDAYEVENT:FALSE
SUMMARY:2013 OMC! Presents Business Workshops
DESCRIPTION:Professional Presentation Skills- A 12 hour workshop to learn public speaking and presentation skills in a friendly environment from a professional communicator and educator.
X-ALT-DESC;FMTTYPE=text/html:Professional Presentation Skills- A 12 hour workshop to learn public speaking and presentation skills in a friendly environment from a professional communicator and educator.&nbsp\;
LOCATION:13160 South Memorial Drive Bixby\, Oklahoma 74008
UID:e.1611.572
SEQUENCE:3
DTSTAMP:20260421T163419Z
URL:https://portal.bixbychamber.com/events/details/2013-omc-presents-business-workshops-03-16-2013-572
END:VEVENT

END:VCALENDAR
