BEGIN:VCALENDAR
VERSION:2.0
PRODID:-//ChamberMaster//Event Calendar 2.0//EN
METHOD:PUBLISH
X-PUBLISHED-TTL:P3D
REFRESH-INTERVAL:P3D
CALSCALE:GREGORIAN
BEGIN:VEVENT
DTSTART:20130314T140000Z
DTEND:20130314T220000Z
X-MICROSOFT-CDO-ALLDAYEVENT:FALSE
SUMMARY:2013 OMC! Presents Business Workshops
DESCRIPTION:Intellectual Property- This 8 hour lecture will provide you a complete picture of the IP world: How to create\, protect\, register and share your IP.
X-ALT-DESC;FMTTYPE=text/html:Intellectual Property- This 8 hour lecture will provide you a complete picture of the IP world: How to create\, protect\, register and share your IP.&nbsp\;
LOCATION:13160 South Memorial Drive Bixby\, Oklahoma 74008
UID:e.1611.588
SEQUENCE:3
DTSTAMP:20260421T153058Z
URL:https://portal.bixbychamber.com/events/details/2013-omc-presents-business-workshops-03-14-2013-588
END:VEVENT

END:VCALENDAR
