BEGIN:VCALENDAR
VERSION:2.0
PRODID:-//ChamberMaster//Event Calendar 2.0//EN
METHOD:PUBLISH
X-PUBLISHED-TTL:P3D
REFRESH-INTERVAL:P3D
CALSCALE:GREGORIAN
BEGIN:VEVENT
DTSTART:20130728T000000Z
DTEND:20130728T020000Z
X-MICROSOFT-CDO-ALLDAYEVENT:FALSE
SUMMARY:2013 Oklahoma Thunder vs Memphis Dolphins
DESCRIPTION:Your Oklahoma Thunder vs Memphis Dolphins 7pm on 7/27/2013 at Bixby High School! This is the last regular season game before the playoffs and both teams have everything on the line for the Championship! Both teams will battle to the end. Sponsored by Dicks Sporting Goods this will be free admission and drawings for Dicks Gift Cards 5 - $10\, 5 - $20\, & 5 - $50 and an electronics giveaway! \n\n\n\nThunder has had a great season of 8-0 but unfortunately a couple of traveling teams have forfeited to avoid having to play our high powered offense and with imminent loss before them they choose to forfeit. We apologize for the hardship these forfeits have caused our fans. Even though these circumstances were beyond our control we feel we owe it to the community to put on a great show with no admission cost.
X-ALT-DESC;FMTTYPE=text/html:<span style="color:#333333\;"><span style="font-family:tahoma\,sans-serif\;"><span style="font-size:10.0pt\;">Your Oklahoma Thunder vs Memphis Dolphins 7pm on 7/27/2013 at Bixby High School! This is the last regular season game before the playoffs and both teams have everything on the line for the Championship! Both teams will battle to the end. Sponsored by Dicks Sporting Goods this will be free admission and drawings for Dicks Gift Cards 5 - $10\, 5 - $20\, &amp\; 5 - $50 and an electronics giveaway!&nbsp\;</span></span></span><br />\n<br />\n<span style="color:#333333\;"><span style="font-family:tahoma\,sans-serif\;"><span style="font-size:10.0pt\;">Thunder has had a great season of 8-0 but unfortunately a couple of traveling teams have forfeited to avoid having to play our high powered offense and with imminent loss before them they choose to forfeit. We apologize for the hardship these forfeits have caused our fans. Even though these circumstances were beyond our control we feel we owe it to the community to put on a great show with no admission cost.&nbsp\;</span></span></span>
LOCATION:Bixby High School
UID:e.1611.672
SEQUENCE:3
DTSTAMP:20260421T102851Z
URL:https://portal.bixbychamber.com/events/details/2013-oklahoma-thunder-vs-memphis-dolphins-07-27-2013-672
END:VEVENT

END:VCALENDAR
