BEGIN:VCALENDAR
VERSION:2.0
PRODID:-//ChamberMaster//Event Calendar 2.0//EN
METHOD:PUBLISH
X-PUBLISHED-TTL:P3D
REFRESH-INTERVAL:P3D
CALSCALE:GREGORIAN
BEGIN:VEVENT
DTSTART:20130714T000000Z
DTEND:20130714T020000Z
X-MICROSOFT-CDO-ALLDAYEVENT:FALSE
SUMMARY:2013 Oklahoma Thunder Football Game
DESCRIPTION:The Oklahoma Thunder would like to invite all chamber members and their employees to a family night with free admission. The game is between the Oklahoma Thunder and the Denver Colorado team D C Reign.
X-ALT-DESC;FMTTYPE=text/html:The Oklahoma Thunder would like to invite all chamber members and their employees to a family night with free admission. The game is between the Oklahoma Thunder and the Denver Colorado team D C Reign.
LOCATION:Bixby High School
UID:e.1611.666
SEQUENCE:3
DTSTAMP:20260421T103302Z
URL:https://portal.bixbychamber.com/events/details/2013-oklahoma-thunder-football-game-07-13-2013-666
END:VEVENT

END:VCALENDAR
