BEGIN:VCALENDAR
VERSION:2.0
PRODID:-//ChamberMaster//Event Calendar 2.0//EN
METHOD:PUBLISH
X-PUBLISHED-TTL:P3D
REFRESH-INTERVAL:P3D
CALSCALE:GREGORIAN
BEGIN:VEVENT
DTSTART:20130623T000000Z
DTEND:20130623T020000Z
X-MICROSOFT-CDO-ALLDAYEVENT:FALSE
SUMMARY:2013 Oklahoma Thunder Football Game
DESCRIPTION:
X-ALT-DESC;FMTTYPE=text/html:
LOCATION:
UID:e.1611.651
SEQUENCE:3
DTSTAMP:20260421T114935Z
URL:https://portal.bixbychamber.com/events/details/2013-oklahoma-thunder-football-game-06-22-2013-651
END:VEVENT

END:VCALENDAR
