BEGIN:VCALENDAR
VERSION:2.0
PRODID:-//ChamberMaster//Event Calendar 2.0//EN
METHOD:PUBLISH
X-PUBLISHED-TTL:P3D
REFRESH-INTERVAL:P3D
CALSCALE:GREGORIAN
BEGIN:VEVENT
DTSTART:20130918T233000Z
DTEND:20130919T003000Z
X-MICROSOFT-CDO-ALLDAYEVENT:FALSE
SUMMARY:2013 Oklahoma Honor Flights
DESCRIPTION:On September 18\, 2013 Oklahoma Honor Flights\, a hub of the national Honor Flight Network\, will take its 5th flight originating out of Tulsa\, 14th flight from Oklahoma.  Over eighty veterans will go by charter flight to Washington\, D.C. for an all expense paid\, one-day trip which includes a visit to the World War II Memorial\, Arlington National Cemetery\, and other DC sites.  Average age of these veterans is 88 years\, with at least two dozen over 90.
X-ALT-DESC;FMTTYPE=text/html:<strong>On September 18\, 2013 Oklahoma Honor Flights</strong>\, a hub of the national Honor Flight Network\, will take its 5<sup>th</sup> flight originating out of Tulsa\, 14<sup>th</sup> flight from Oklahoma.&nbsp\; Over eighty veterans will go by charter flight to Washington\, D.C. for an all expense paid\, one-day trip which includes a visit to the World War II Memorial\, Arlington National Cemetery\, and other DC sites.&nbsp\; Average age of these veterans is 88 years\, with at least two dozen over 90. &nbsp\;
LOCATION:Tuesday September 17\, 2013 Send Off Ceremony SpriritBank Event Center 105th and Memorial Tulsa 6:30pm Patriotic Celebration and Introduction of Veterans General Public is Welcome to this FREE event doors open at 6:00pm Wednesday September 18\, 2013 Welcome Home! Tulsa Airport 8:30pm (tentative time) Welcome Home Parade through the Tulsa International Airport complete with band\, Color Guard and again\, the general public is encouraged to attend.
UID:e.1611.681
SEQUENCE:3
DTSTAMP:20260421T090514Z
URL:https://portal.bixbychamber.com/events/details/2013-oklahoma-honor-flights-09-18-2013-681
END:VEVENT

END:VCALENDAR
