BEGIN:VCALENDAR
VERSION:2.0
PRODID:-//ChamberMaster//Event Calendar 2.0//EN
METHOD:PUBLISH
X-PUBLISHED-TTL:P3D
REFRESH-INTERVAL:P3D
CALSCALE:GREGORIAN
BEGIN:VEVENT
DTSTART:20130416T233000Z
DTEND:20130417T020000Z
X-MICROSOFT-CDO-ALLDAYEVENT:FALSE
SUMMARY:2013 Oklahoma Bar Olympics Showdown
DESCRIPTION:Tulsa v. OKC bartenders will be flipping and flairing bottles making drinks and then auctioning them off for the Make-A-Wish Foundation.  There will be drink giveaways\, prizes and KHITs will be Djing the event.
X-ALT-DESC;FMTTYPE=text/html:<span style="font-family:calibri\,sans-serif\;"><span style="font-size:11.0pt\;">Tulsa v. OKC bartenders will be flipping and flairing bottles making drinks and then auctioning them off for the Make-A-Wish Foundation. &nbsp\;There will be drink giveaways\, prizes and KHITs will be Djing the event.&nbsp\;</span></span>
LOCATION:Dave & Buster's Tulsa 6812 S. 105th E. Avenue Tulsa\, OK 74133
UID:e.1611.624
SEQUENCE:3
DTSTAMP:20260421T141451Z
URL:https://portal.bixbychamber.com/events/details/2013-oklahoma-bar-olympics-showdown-04-16-2013-624
END:VEVENT

END:VCALENDAR
