BEGIN:VCALENDAR
VERSION:2.0
PRODID:-//ChamberMaster//Event Calendar 2.0//EN
METHOD:PUBLISH
X-PUBLISHED-TTL:P3D
REFRESH-INTERVAL:P3D
CALSCALE:GREGORIAN
BEGIN:VEVENT
DTSTART:20131010T223000Z
DTEND:20131011T000000Z
X-MICROSOFT-CDO-ALLDAYEVENT:FALSE
SUMMARY:2013 October After Hours
DESCRIPTION:A very relaxed and casual networking event that gives the highlighted business a great opportunity to promote your products and services. Food and beverages will be provided.
X-ALT-DESC;FMTTYPE=text/html:A very relaxed and casual networking event that gives the highlighted&nbsp\;business a great opportunity to promote your products and services. Food and beverages will be&nbsp\;provided.&nbsp\;
LOCATION:8516 East 101st Street Suite F Tulsa\, OK 74133
UID:e.1611.313
SEQUENCE:3
DTSTAMP:20260421T074628Z
URL:https://portal.bixbychamber.com/events/details/2013-october-after-hours-10-10-2013-313
END:VEVENT

END:VCALENDAR
