BEGIN:VCALENDAR
VERSION:2.0
PRODID:-//ChamberMaster//Event Calendar 2.0//EN
METHOD:PUBLISH
X-PUBLISHED-TTL:P3D
REFRESH-INTERVAL:P3D
CALSCALE:GREGORIAN
BEGIN:VEVENT
DTSTART:20131107T143000Z
DTEND:20131107T160000Z
X-MICROSOFT-CDO-ALLDAYEVENT:FALSE
SUMMARY:2013 November Get To Know Your Chamber
DESCRIPTION:This reception gives all Partners an opportunity to learn about the Bixby Metro Chamber\, our programs\, Partners benefits and ways the Chamber can help brand your business. The reception is open to not only New Partners to the Chamber but also existing Partners looking for ways to get more involved\, promote their business and to welcome other Partners.
X-ALT-DESC;FMTTYPE=text/html:This reception gives all Partners an opportunity to learn about the Bixby Metro Chamber\, our programs\, Partners benefits and ways the Chamber can help brand your business. The reception is open to not only New Partners to the Chamber but also existing Partners looking for ways to get more involved\, promote their business and to welcome other Partners.&nbsp\;
LOCATION:Hampton Inn & Suites 8220 East Regal Place Tulsa\, OK 74133
UID:e.1611.291
SEQUENCE:3
DTSTAMP:20260421T050553Z
URL:https://portal.bixbychamber.com/events/details/2013-november-get-to-know-your-chamber-11-07-2013-291
END:VEVENT

END:VCALENDAR
