BEGIN:VCALENDAR
VERSION:2.0
PRODID:-//ChamberMaster//Event Calendar 2.0//EN
METHOD:PUBLISH
X-PUBLISHED-TTL:P3D
REFRESH-INTERVAL:P3D
CALSCALE:GREGORIAN
BEGIN:VEVENT
DTSTART;VALUE=DATE:20131113
DTEND;VALUE=DATE:20131114
TRANSP:TRANSPARENT
X-MICROSOFT-CDO-ALLDAYEVENT:TRUE
SUMMARY:2013 November Breakfast with the Board
DESCRIPTION:The Bixby Metro Chamber is comprised of some of the most influential individuals in Bixby and South Tulsa area. Enjoy Breakfast while visiting and hearing from our BMC board.
X-ALT-DESC;FMTTYPE=text/html:The Bixby Metro Chamber is comprised of some of the most influential&nbsp\;individuals in Bixby and South Tulsa area. Enjoy Breakfast while visiting and hearing from our BMC board.&nbsp\;
LOCATION:
UID:e.1611.296
SEQUENCE:3
DTSTAMP:20260421T050542Z
URL:https://portal.bixbychamber.com/events/details/2013-november-breakfast-with-the-board-11-13-2013-296
END:VEVENT

END:VCALENDAR
