BEGIN:VCALENDAR
VERSION:2.0
PRODID:-//ChamberMaster//Event Calendar 2.0//EN
METHOD:PUBLISH
X-PUBLISHED-TTL:P3D
REFRESH-INTERVAL:P3D
CALSCALE:GREGORIAN
BEGIN:VEVENT
DTSTART:20131107T233000Z
DTEND:20131108T010000Z
X-MICROSOFT-CDO-ALLDAYEVENT:FALSE
SUMMARY:2013 November After Hours
DESCRIPTION:
X-ALT-DESC;FMTTYPE=text/html:
LOCATION:Aflac 5746 East Skelly Drive Tulsa\, OK 74135
UID:e.1611.314
SEQUENCE:3
DTSTAMP:20260421T050407Z
URL:https://portal.bixbychamber.com/events/details/2013-november-after-hours-11-07-2013-314
END:VEVENT

END:VCALENDAR
