BEGIN:VCALENDAR
VERSION:2.0
PRODID:-//ChamberMaster//Event Calendar 2.0//EN
METHOD:PUBLISH
X-PUBLISHED-TTL:P3D
REFRESH-INTERVAL:P3D
CALSCALE:GREGORIAN
BEGIN:VEVENT
DTSTART:20130723T223000Z
DTEND:20130724T003000Z
X-MICROSOFT-CDO-ALLDAYEVENT:FALSE
SUMMARY:2013 Northeast Elementary and Intermediate Community Open House
DESCRIPTION:
X-ALT-DESC;FMTTYPE=text/html:
LOCATION:11901 East 131st Street South Bixby\, OK 74008
UID:e.1611.654
SEQUENCE:3
DTSTAMP:20260421T113612Z
URL:https://portal.bixbychamber.com/events/details/2013-northeast-elementary-and-intermediate-community-open-house-07-23-2013-654
END:VEVENT

END:VCALENDAR
